BEGIN:VCALENDAR
VERSION:2.0
PRODID:-//A1 Health and Safety - ECPv5.16.3.1//NONSGML v1.0//EN
CALSCALE:GREGORIAN
METHOD:PUBLISH
X-WR-CALNAME:A1 Health and Safety
X-ORIGINAL-URL:https://www.a1cpr.com
X-WR-CALDESC:Events for A1 Health and Safety
REFRESH-INTERVAL;VALUE=DURATION:PT1H
X-Robots-Tag:noindex
X-PUBLISHED-TTL:PT1H
BEGIN:VTIMEZONE
TZID:UTC
BEGIN:STANDARD
TZOFFSETFROM:+0000
TZOFFSETTO:+0000
TZNAME:UTC
DTSTART:20240101T000000
END:STANDARD
END:VTIMEZONE
BEGIN:VEVENT
DTSTART;TZID=UTC:20241029T180000
DTEND;TZID=UTC:20241029T200000
DTSTAMP:20260424T061024
CREATED:20220922T194044Z
LAST-MODIFIED:20240827T231518Z
UID:382-1730224800-1730232000@www.a1cpr.com
SUMMARY:Instructor Renewal Course
DESCRIPTION:InstructorRenewal 24
URL:https://www.a1cpr.com/calendar/instructor-renewal-course-4/
END:VEVENT
END:VCALENDAR