BEGIN:VCALENDAR
VERSION:2.0
PRODID:-//A1 Health and Safety - ECPv5.16.3.1//NONSGML v1.0//EN
CALSCALE:GREGORIAN
METHOD:PUBLISH
X-ORIGINAL-URL:https://www.a1cpr.com
X-WR-CALDESC:Events for A1 Health and Safety
REFRESH-INTERVAL;VALUE=DURATION:PT1H
X-Robots-Tag:noindex
X-PUBLISHED-TTL:PT1H
BEGIN:VTIMEZONE
TZID:UTC
BEGIN:STANDARD
TZOFFSETFROM:+0000
TZOFFSETTO:+0000
TZNAME:UTC
DTSTART:20240101T000000
END:STANDARD
END:VTIMEZONE
BEGIN:VEVENT
DTSTART;TZID=UTC:20240523T120000
DTEND;TZID=UTC:20240523T160000
DTSTAMP:20260419T192310
CREATED:20240513T002016Z
LAST-MODIFIED:20240513T002016Z
UID:608-1716465600-1716480000@www.a1cpr.com
SUMMARY:BLS Provider Course
DESCRIPTION:Please use the following link to register.
URL:https://www.a1cpr.com/calendar/bls-provider-course-14/
LOCATION:A1 Health – Mt Clemens\, 55 Crocker Blvd\, Mt Clemens\, MI\, 48043
ORGANIZER;CN="A-1%20Health%20and%20Safety%20Education":MAILTO:info@a1cpr.com
END:VEVENT
END:VCALENDAR